BEGIN:VCALENDAR
VERSION:2.0
PRODID:-//Gartengestalter Österreich - ECPv4.9.3//NONSGML v1.0//EN
CALSCALE:GREGORIAN
METHOD:PUBLISH
X-WR-CALNAME:Gartengestalter Österreich
X-ORIGINAL-URL:https://www.ihregartengestalter.at
X-WR-CALDESC:Veranstaltungen im Gartengestalter Österreich
BEGIN:VEVENT
DTSTART;TZID=Europe/Berlin:20231013T100000
DTEND;TZID=Europe/Berlin:20231015T180000
DTSTAMP:20260419T143631
CREATED:20231003T101339Z
LAST-MODIFIED:20231003T101339Z
UID:16630-1697191200-1697392800@www.ihregartengestalter.at
SUMMARY:7. Wiener Herbsttage im Palmenhaus - Burggarten
DESCRIPTION:Die Ausstellung läuft vom 13.–15. Oktober\, 10–18 Uhr. \n7. Wiener Herbsttage\nOrt: Palmenhaus im Burggarten\,\n1010 Wien \n
URL:https://www.ihregartengestalter.at/veranstaltung/7-wiener-herbsttage-im-palmenhaus-burggarten/
END:VEVENT
END:VCALENDAR