BEGIN:VCALENDAR
VERSION:2.0
PRODID:-//Gartengestalter Österreich - ECPv4.9.3//NONSGML v1.0//EN
CALSCALE:GREGORIAN
METHOD:PUBLISH
X-WR-CALNAME:Gartengestalter Österreich
X-ORIGINAL-URL:https://www.ihregartengestalter.at
X-WR-CALDESC:Veranstaltungen im Gartengestalter Österreich
BEGIN:VEVENT
DTSTART;VALUE=DATE:20240130
DTEND;VALUE=DATE:20240131
DTSTAMP:20260419T132110
CREATED:20231003T072325Z
LAST-MODIFIED:20231003T072421Z
UID:16592-1706572800-1706659199@www.ihregartengestalter.at
SUMMARY:Bauwerksbegrünung im Außenraum: Dach- Trog- und Wandbegrünung
DESCRIPTION:Dachbegrünung nach ÖNORM L 1131\, Planung\, Bau und Pflege \nVom „Standard“ Extensiv- und Intensiv- zum PV-\, Biodiversitäts- und Anstau- Gründach\nTrogbegrünung nach ÖNORM L1131 und L1136\nAnforderungen an Schichtenaufbau\, Be- und Entwässerung\, Höhe und Volumen von Pflanzgefäßen nach L 1136\nWandbegrünung nach ÖNORM L1136\, Planung\, Bau und Pflege\nBodengebundene-\, Troggebundene- und Wandgebundene Vertikalbegrünungen \nZielgruppe:\nBetriebsleiterInnen und MitarbeiterInnen aus GaLaBau-Unternehmen \nMehr Informationen und Anmeldungsformular unter: \nBauwerksbegrünung 050 2024 \n  \n
URL:https://www.ihregartengestalter.at/veranstaltung/bauwerksbegruenung-im-aussenraum-dach-trog-und-wandbegruenung/
LOCATION:Gartenbauschule Langenlois\, Am Rosenhügel 15\, 3550 Langenlois\, Österreich
ATTACH;FMTTYPE=image/jpeg:https://www.ihregartengestalter.at/wp-content/uploads/2023/10/IMG-20230925-WA0002.jpg
END:VEVENT
END:VCALENDAR