BEGIN:VCALENDAR
VERSION:2.0
PRODID:-//Gartengestalter Österreich - ECPv4.9.3//NONSGML v1.0//EN
CALSCALE:GREGORIAN
METHOD:PUBLISH
X-WR-CALNAME:Gartengestalter Österreich
X-ORIGINAL-URL:https://www.ihregartengestalter.at
X-WR-CALDESC:Veranstaltungen im Gartengestalter Österreich
BEGIN:VEVENT
DTSTART;VALUE=DATE:20240523
DTEND;VALUE=DATE:20240524
DTSTAMP:20260419T131346
CREATED:20231003T081240Z
LAST-MODIFIED:20231003T081240Z
UID:16627-1716422400-1716508799@www.ihregartengestalter.at
SUMMARY:Niwaki Die Kunst der Baumgestaltung
DESCRIPTION:Seminarinhalt\nJapanische Niwaki (bei uns auch Großbonsai oder Gartenbonsai genannt) sind das Highlight im japanischen Garten.\nKiefern\, Eiben\, Ilex & Co werden so gestaltet\, dass sie das Bild eines alten Baumes wiedergeben. Es sind charaktervolle Bäume\, die von Meisterhand über Jahrzehnte bearbeitet wurden.\nIm Idealfall drückt ein Niwaki würdevolles Altern\, Kraft und Natürlichkeit aus – ein lebendes Kunstwerk!\nBaumauswahl\nRichtiger Standort im Garten\nSchonende Baumpflanzung\nNährstoffversorgung\nPflege- und Schnittmaßnahmen \nZielgruppe\nMitarbeiterinnen und Mitarbeiter aus Gartenbaubetrieben mit Garten- und Landschaftsbausegment sowie aus GaLaBau-Unternehmen. \nMehr Informationen und Anmeldeformular unter: \nNiwaki 210 2024 \n
URL:https://www.ihregartengestalter.at/veranstaltung/niwaki-die-kunst-der-baumgestaltung/
LOCATION:Gartenbauschule Langenlois\, Am Rosenhügel 15\, 3550 Langenlois\, Österreich
ATTACH;FMTTYPE=image/jpeg:https://www.ihregartengestalter.at/wp-content/uploads/2017/11/kreitl-10.jpg
END:VEVENT
END:VCALENDAR