BEGIN:VCALENDAR
VERSION:2.0
PRODID:-//Gartengestalter Österreich - ECPv4.9.3//NONSGML v1.0//EN
CALSCALE:GREGORIAN
METHOD:PUBLISH
X-WR-CALNAME:Gartengestalter Österreich
X-ORIGINAL-URL:https://www.ihregartengestalter.at
X-WR-CALDESC:Veranstaltungen im Gartengestalter Österreich
BEGIN:VEVENT
DTSTART;VALUE=DATE:20240215
DTEND;VALUE=DATE:20240217
DTSTAMP:20260419T131406
CREATED:20231003T073717Z
LAST-MODIFIED:20231003T073717Z
UID:16601-1707955200-1708127999@www.ihregartengestalter.at
SUMMARY:Obstgehölze schneiden
DESCRIPTION:Seminarinhalt\nGrundlagen Obstbaumschnitt\, Baumentwicklung und Baumansprache Schnitt- und Erziehungsmethoden an Kern- und Steinobst im Jahresverlauf\nSchneiden von Obstgehölzen im Hausgarten und auf Streuobstanlagen\nGrundlagen der Obstbaumkrankheiten\nVorträge und praktische Schnittübungen \nSeminarziel\nSicheres Auftreten gegenüber Kund:innen mit gefestigtem Wissen im Bereich Obstbaumpflege und Obstbaumschnitt \nZielgruppe\nGärtnerInnen sowie gärtnerisch Tätige\, die beruflich mit\nObstgehölzen beschäftigt sind und sich weiterbilden wollen. \nMehr Informationen und Anmeldeformular unter: \nObstgehölze schneiden 072 2024 \n
URL:https://www.ihregartengestalter.at/veranstaltung/obstgehoelze-schneiden/
LOCATION:Gartenbauschule Langenlois\, Am Rosenhügel 15\, 3550 Langenlois\, Österreich
ATTACH;FMTTYPE=image/jpeg:https://www.ihregartengestalter.at/wp-content/uploads/2023/10/220603-Lehre-Gartengestalter_F.JanaMadzigon-9418-scaled.jpg
END:VEVENT
END:VCALENDAR