BEGIN:VCALENDAR
VERSION:2.0
PRODID:-//Gartengestalter Österreich - ECPv4.9.3//NONSGML v1.0//EN
CALSCALE:GREGORIAN
METHOD:PUBLISH
X-WR-CALNAME:Gartengestalter Österreich
X-ORIGINAL-URL:https://www.ihregartengestalter.at
X-WR-CALDESC:Veranstaltungen im Gartengestalter Österreich
BEGIN:VEVENT
DTSTART;VALUE=DATE:20240227
DTEND;VALUE=DATE:20240228
DTSTAMP:20260419T133338
CREATED:20231003T074653Z
LAST-MODIFIED:20231003T074653Z
UID:16605-1708992000-1709078399@www.ihregartengestalter.at
SUMMARY:Planungshilfen für mehr Biodiversität im urbanen Raum
DESCRIPTION:Seminarinhalt\nÖffentliche Grünflächen im Spannungsfeld von Klimawandel und Artensterben Biodiversität bei Gehölzen: mit welchen Bäumen und Sträuchern kann die Fauna gezielt gefördert werden Best-Practice Beispiele mit ganzjährig attraktive Pflanzungen für unsere Tierwelt Nachhaltige Pflanzung\, Pflege und Unterhaltung von Bäumen und Sträuchern in Zeiten des Klimawandels\nGrüne Städte\, grüne Gärten\, grüne Inseln im Allgemeinen zu erhalten und neu zu gestalten wird städteplanerisch „die“ Herausforderung der Zukunft sein.\nDas Wissen um zum Beispiel Bienen- oder Vogelnährgehölze bringt Pflanzungen auf eine höhere emotionale Ebene\, die Bereitschaft innerhalb unserer Gesellschaft\, in der Hinsicht etwas „Gutes“ zu tun ist derzeit sehr hoch.\nDas Umfeld für unser Grün verändert sich drastisch\, es gibt viel zu tun\, packen wir´s an. \nZielgruppe\nGarten- und Landschaftsplaner\, Gartenarchitekten und alle die ihr Wissen erweitern wollen \nMehr Informationen und das Anmeldeformular unter: \nBiodiversität 091 2024 \n
URL:https://www.ihregartengestalter.at/veranstaltung/planungshilfen-fuer-mehr-biodiversitaet-im-urbanen-raum/
LOCATION:Gartenbauschule Langenlois\, Am Rosenhügel 15\, 3550 Langenlois\, Österreich
ATTACH;FMTTYPE=image/jpeg:https://www.ihregartengestalter.at/wp-content/uploads/2023/10/220603-Lehre-Gartengestalter_F.JanaMadzigon-9335-scaled.jpg
END:VEVENT
END:VCALENDAR